BEGIN:VCALENDAR
VERSION:2.0
PRODID:-//United Nations World Oceans Day - ECPv6.15.17.1//NONSGML v1.0//EN
CALSCALE:GREGORIAN
METHOD:PUBLISH
X-WR-CALNAME:United Nations World Oceans Day
X-ORIGINAL-URL:https://unworldoceansday.org
X-WR-CALDESC:Events for United Nations World Oceans Day
REFRESH-INTERVAL;VALUE=DURATION:PT1H
X-Robots-Tag:noindex
X-PUBLISHED-TTL:PT1H
BEGIN:VTIMEZONE
TZID:UTC
BEGIN:STANDARD
TZOFFSETFROM:+0000
TZOFFSETTO:+0000
TZNAME:UTC
DTSTART:20250101T000000
END:STANDARD
END:VTIMEZONE
BEGIN:VEVENT
DTSTART;TZID=UTC:20260608T000000
DTEND;TZID=UTC:20260614T160000
DTSTAMP:20260422T132918
CREATED:20260420T143005Z
LAST-MODIFIED:20260420T143005Z
UID:30630-1780876800-1781452800@unworldoceansday.org
SUMMARY:Sunshine Coast Ocean Festival ( June 8-14 )
DESCRIPTION:Join us for the Sunshine Coast Ocean Festival\, a week-long celebration of our coastal environment taking place June 8–14. \nEvents include film screenings\, community talks\, citizen science activities\, beach cleanups\, and hands-on learning experiences for all ages. \nHosted by the Sunshine Coast Conservation Association\, this festival brings together community\, education\, and action in celebration of World Oceans Day. \nLocations across the Sunshine Coast\nView full schedule: www.sunshinecoastoceanfestival.ca
URL:https://unworldoceansday.org/calendar/sunshine-coast-ocean-festival-june-8-14/
ATTACH;FMTTYPE=image/png:https://unworldoceansday.org/wp-content/uploads/2026/04/minimal-SCOF-2025-500.png
ORGANIZER;CN="Sunshine Coast Conservation Association":MAILTO:oceans@thescca.ca
END:VEVENT
END:VCALENDAR